Workbook

Sheet 人数割当 R8
A1: R8 地区駅伝競走大会 学校人数割り当て表
A2: № | B2: 学校名 | C2: R7 役員数 | D2: R8 理事 | E2: R8 専門部 | F2: R8 職員役員 | G2: R8 割当人数
A3: 1 | B3: 名 護 | C3: 16 | D3: 3 | E3: 1 | F3: 12 | G3: =SUM(D3:F3) -> 16
A4: 2 | B4: 大 宮 | C4: 13 | D4: 1 | E4: 1 | F4: 11 | G4: =SUM(D4:F4) -> 13
A5: 3 | B5: 金 武 | C5: 13 | F5: 12 | G5: =SUM(D5:F5) -> 12
A6: 4 | B6: 屋 部 | C6: 12 | E6: 1 | F6: 11 | G6: =SUM(D6:F6) -> 12
A7: 5 | B7: 今帰仁 | C7: 10 | F7: 10 | G7: =SUM(D7:F7) -> 10
A8: 6 | B8: 本 部 | C8: 10 | D8: 2 | F8: 8 | G8: =SUM(D8:F8) -> 10
A9: 7 | B9: 羽 地 | C9: 10 | D9: 1 | F9: 9 | G9: =SUM(D9:F9) -> 10
A10: 8 | B10: 東 江 | C10: 10 | E10: 2 | F10: 8 | G10: =SUM(D10:F10) -> 10
A11: 9 | B11: 宜野座 | C11: 10 | D11: 2 | E11: 2 | F11: 6 | G11: =SUM(D11:F11) -> 10
A12: 10 | B12: 国 頭 | C12: 5 | F12: 5 | G12: =SUM(D12:F12) -> 5
A13: 11 | B13: 伊 江 | C13: 3 | F13: 3 | G13: =SUM(D13:F13) -> 3
A14: 12 | B14: 上本部 | C14: 3 | D14: 2 | F14: 1 | G14: =SUM(D14:F14) -> 3
A15: 13 | B15: 大宜味 | C15: 3 | F15: 3 | G15: =SUM(D15:F15) -> 3
A16: 14 | B16: 久 辺 | C16: 3 | D16: 1 | F16: 2 | G16: =SUM(D16:F16) -> 3
A17: 15 | B17: 緑風学園 | C17: 3 | F17: 3 | G17: =SUM(D17:F17) -> 3
A18: 16 | B18: 屋我地 | C18: 3 | F18: 3 | G18: =SUM(D18:F18) -> 3
A19: 17 | B19: 伊是名 | C19: 0 | F19: 0 | G19: =SUM(D19:F19) -> 0
A20: 18 | B20: 伊平屋 | C20: 0 | F20: 0 | G20: =SUM(D20:F20) -> 0
A21: 19 | B21: 東 | C21: 3 | F21: 3 | G21: =SUM(D21:F21) -> 3
A22: 20 | B22: 伊豆味 | C22: 3 | D22: 1 | F22: 2 | G22: =SUM(D22:F22) -> 3
A23: 21 | B23: 野甫 | C23: 0 | F23: 0 | G23: =SUM(D23:F23) -> 0
A24: 22 | B24: 水納 | C24: 0 | F24: 0 | G24: =SUM(D24:F24) -> 0
G25: =SUM(D25:F25) -> 0
A26: 合 計 | C26: =SUM(C3:C25) -> 133 | D26: =SUM(D3:D25) -> 13 | E26: =SUM(E3:E25) -> 7 | F26: =SUM(F3:F25) -> 112 | G26: =SUM(G3:G25) -> 132
A27: ＊R7役員数は、会長と副会長を除いた中体連理事と陸上・駅伝専門部を含んでいます。
A29: ＊中継所役員として名護・大宮・金武は9名、羽地は7名を選出してください。

Sheet 役員氏名報告
K1: ←Ｊ列までが印刷範囲です！
A3: 令和8年度 男子第51回 女子第42回 国頭地区中学校駅伝役員 氏名報告書
A5: １．学校規模に応じて依頼された人数分の氏名を記入し、希望 (対応可能) 部署を選択。
A6: ２．「名護中 名城まで」 ミライムで提出（10/2 金 までにお願いします）
A8: ナンバー | C8: 学 校 名 | H8: 校 長 名
A9: 1 | C9: =IF(A9="","",VLOOKUP(A9,J38:L59,3)) -> 東江
A10: 提出者 (監督) | C10: ﾌﾘｶﾞﾅ
C11: 氏 名
B13: ＊氏名入力の際は、漢字の確認をお願いします。 例「与那嶺・與那嶺」 漢字の誤変換など | F13: 必要役員数 | I13: =IFERROR(IF(A9="","",VLOOKUP(A9,$J$38:$K$59,2,FALSE)),"") -> 10
A15: 中継所役員 ・・・ 名護（９名） ・ 金武（９名） ・ 大宮（９名） ・ 羽地（７名）
A16: 希望(対応可能)部署 | D16: 役員氏名 | F16: 希望(対応可能)部署 | I16: 役員氏名
A17: 1 | B17: (離島校除く必ず１名) 立哨 | F17: 10
A18: 2 | F18: 11
A19: 3 | F19: 12
A20: 4 | F20: 13
A21: 5 | F21: 14
A22: 6 | F22: 15
A23: 7 | F23: 16
A24: 8 | F24: 17
A25: 9 | F25: 18
A26: ※１．必要役員人数は、中体連理事と陸上･駅伝専門部員を含めた人数です。
A27: ※２．離島校を除き、各学校から必ず１人は立哨係を出してください。
A28: ※３．本人の希望 (興味関心など) や、これまでの経験を踏まえて記入してください。
A29: ※４．全体のバランス上、希望に添えない場合があります。予め御了承ください。
A30: ↑27行目までが印刷範囲です！
C33: 氏名 | D33: ﾌﾘｶﾞﾅ
B34: 男子監督 | C34: =#REF! -> #REF! | D34: =#REF! -> #REF!
B35: 女子監督 | C35: =#REF! -> #REF! | D35: =#REF! -> #REF!
C37: 配置が必要な部署名 | E37: 主な業務内容 | J37: ＮＣ | K37: R8動員数 | L37: 学校名 | M37: 役員数 | N37: 理事 | O37: 専門部 | P37: R8合計
B38: 1 | C38: 運営(理事･専門部) | E38: 大会運営に関すること全般 | J38: 1 | K38: 10 | L38: 東江 | M38: 8 | O38: 2 | P38: =M38+N38+O38 -> 10
B39: 2 | C39: 立哨 | E39: 指定された地点での車両等進入規制(離島校除く全校必ず１人) | J39: 2 | K39: 16 | L39: 名護 | M39: 12 | N39: 3 | O39: 1 | P39: =M39+N39+O39 -> 16
B40: 3 | C40: アナウンサー(本部) | E40: 競技場でのレース推移速報など | J40: 3 | K40: 12 | L40: 屋部 | M40: 11 | O40: 1 | P40: =M40+N40+O40 -> 12
B41: 4 | C41: アナウンサー(車両) | E41: 広報車でのアナウンス活動 | J41: 5 | K41: 10 | L41: 本部 | M41: 8 | N41: 2 | P41: =M41+N41+O41 -> 10
B42: 5 | C42: 記録･情報処理 | E42: 各区間の記録整理 | J42: 6 | K42: 3 | L42: 伊豆味 | M42: 2 | N42: 1 | P42: =M42+N42+O42 -> 3
B43: 6 | C43: 救護 | E43: 急病人等の応急処置 | J43: 7 | K43: 3 | L43: 上本部 | M43: 1 | N43: 2 | P43: =M43+N43+O43 -> 3
B44: 7 | C44: 浄書 | E44: 団体賞状の浄書 | J44: 9 | K44: 10 | L44: 今帰仁 | M44: 10 | P44: =M44+N44+O44 -> 10
B45: 8 | C45: 受付･接待 | E45: 本部周辺での受付及び接待(冊子販売含) | J45: 12 | K45: 10 | L45: 羽地 | M45: 9 | N45: 1 | P45: =M45+N45+O45 -> 10
B46: 9 | C46: 移動監察 | E46: バイク等によるレース中の監察 | J46: 13 | K46: 3 | L46: 屋我地ひるぎ学園 | M46: 3 | P46: =M46+N46+O46 -> 3
B47: 10 | C47: 折返し地点整理 | E47: 折返し地点周辺の会場整理 | J47: 14 | K47: 3 | L47: 伊江 | M47: 3 | P47: =M47+N47+O47 -> 3
B48: 11 | C48: 記録回収 | E48: 各中継所の記録記入用紙を本部へ急送 | J48: 15 | K48: なし | L48: 伊是名 | M48: なし
...

Sheet Data1
B1: DB | C1: n1 | D1: n2 | E1: f1 | F1: f2 | G1: gr | H1: len | I1: N1 | J1: N2 | K1: SX | L1: ZK | M1: MC | N1: S1 | O1: KC | P1: bt1 | Q1: bt2
A2: 1 | B2: =IF(C2="","",IF(LEN(A2)=1,M2&K2&"0"&A2,M2&K2&A2)) -> #REF! | C2: =IF(#REF!="","",#REF!) -> #REF! | D2: =IF(#REF!="","",#REF!) -> #REF! | E2: =IF(#REF!="","",#REF!) -> #REF! | F2: =IF(#REF!="","",#REF!) -> #REF! | G2: =IF(#REF!="","",#REF!) -> #REF! | H2: =IF(C2="","",LEN(C2)+LEN(D2)) -> #REF! | I2: =IF(C2="","",IF(H2<=3,C2&" "&D2&"("&G2&")",C2&" "&D2&"("&G2&")")) -> #REF! | J2: =IF(E2="","",E2&" "&F2) -> #REF! | K2: =IF(C2="","",1) -> #REF! | L2: =#REF! -> #REF! | M2: =IF(L2="","",IF(LEN(#REF!)=1,"47100"&#REF!,"4710"&#REF!)) -> #REF! | N2: =IF(L2="","",17200) -> #REF! | O2: =IF(L2="","",47) -> #REF! | P2: =IF(#REF!="","",#REF!) -> #REF! | Q2: =IF(#REF!="","",#REF!) -> #REF!
A3: 2 | B3: =IF(C3="","",IF(LEN(A3)=1,M3&K3&"0"&A3,M3&K3&A3)) -> #REF! | C3: =IF(#REF!="","",#REF!) -> #REF! | D3: =IF(#REF!="","",#REF!) -> #REF! | E3: =IF(#REF!="","",#REF!) -> #REF! | F3: =IF(#REF!="","",#REF!) -> #REF! | G3: =IF(#REF!="","",#REF!) -> #REF! | H3: =IF(C3="","",LEN(C3)+LEN(D3)) -> #REF! | I3: =IF(C3="","",IF(H3<=3,C3&" "&D3&"("&G3&")",C3&" "&D3&"("&G3&")")) -> #REF! | J3: =IF(E3="","",E3&" "&F3) -> #REF! | K3: =IF(C3="","",1) -> #REF! | L3: =#REF! -> #REF! | M3: =IF(L3="","",IF(LEN(#REF!)=1,"47100"&#REF!,"4710"&#REF!)) -> #REF! | N3: =IF(L3="","",17200) -> #REF! | O3: =IF(L3="","",47) -> #REF! | P3: =IF(#REF!="","",#REF!) -> #REF! | Q3: =IF(#REF!="","",#REF!) -> #REF!
A4: 3 | B4: =IF(C4="","",IF(LEN(A4)=1,M4&K4&"0"&A4,M4&K4&A4)) -> #REF! | C4: =IF(#REF!="","",#REF!) -> #REF! | D4: =IF(#REF!="","",#REF!) -> #REF! | E4: =IF(#REF!="","",#REF!) -> #REF! | F4: =IF(#REF!="","",#REF!) -> #REF! | G4: =IF(#REF!="","",#REF!) -> #REF! | H4: =IF(C4="","",LEN(C4)+LEN(D4)) -> #REF! | I4: =IF(C4="","",IF(H4<=3,C4&" "&D4&"("&G4&")",C4&" "&D4&"("&G4&")")) -> #REF! | J4: =IF(E4="","",E4&" "&F4) -> #REF! | K4: =IF(C4="","",1) -> #REF! | L4: =#REF! -> #REF! | M4: =IF(L4="","",IF(LEN(#REF!)=1,"47100"&#REF!,"4710"&#REF!)) -> #REF! | N4: =IF(L4="","",17200) -> #REF! | O4: =IF(L4="","",47) -> #REF! | P4: =IF(#REF!="","",#REF!) -> #REF! | Q4: =IF(#REF!="","",#REF!) -> #REF!
A5: 4 | B5: =IF(C5="","",IF(LEN(A5)=1,M5&K5&"0"&A5,M5&K5&A5)) -> #REF! | C5: =IF(#REF!="","",#REF!) -> #REF! | D5: =IF(#REF!="","",#REF!) -> #REF! | E5: =IF(#REF!="","",#REF!) -> #REF! | F5: =IF(#REF!="","",#REF!) -> #REF! | G5: =IF(#REF!="","",#REF!) -> #REF! | H5: =IF(C5="","",LEN(C5)+LEN(D5)) -> #REF! | I5: =IF(C5="","",IF(H5<=3,C5&" "&D5&"("&G5&")",C5&" "&D5&"("&G5&")")) -> #REF! | J5: =IF(E5="","",E5&" "&F5) -> #REF! | K5: =IF(C5="","",1) -> #REF! | L5: =#REF! -> #REF! | M5: =IF(L5="","",IF(LEN(#REF!)=1,"47100"&#REF!,"4710"&#REF!)) -> #REF! | N5: =IF(L5="","",17200) -> #REF! | O5: =IF(L5="","",47) -> #REF! | P5: =IF(#REF!="","",#REF!) -> #REF! | Q5: =IF(#REF!="","",#REF!) -> #REF!
A6: 5 | B6: =IF(C6="","",IF(LEN(A6)=1,M6&K6&"0"&A6,M6&K6&A6)) -> #REF! | C6: =IF(#REF!="","",#REF!) -> #REF! | D6: =IF(#REF!="","",#REF!) -> #REF! | E6: =IF(#REF!="","",#REF!) -> #REF! | F6: =IF(#REF!="","",#REF!) -> #REF! | G6: =IF(#REF!="","",#REF!) -> #REF! | H6: =IF(C6="","",LEN(C6)+LEN(D6)) -> #REF! | I6: =IF(C6="","",IF(H6<=3,C6&" "&D6&"("&G6&")",C6&" "&D6&"("&G6&")")) -> #REF! | J6: =IF(E6="","",E6&" "&F6) -> #REF! | K6: =IF(C6="","",1) -> #REF! | L6: =#REF! -> #REF! | M6: =IF(L6="","",IF(LEN(#REF!)=1,"47100"&#REF!,"4710"&#REF!)) -> #REF! | N6: =IF(L6="","",17200) -> #REF! | O6: =IF(L6="","",47) -> #REF! | P6: =IF(#REF!="","",#REF!) -> #REF! | Q6: =IF(#REF!="","",#REF!) -> #REF!
A7: 6 | B7: =IF(C7="","",IF(LEN(A7)=1,M7&K7&"0"&A7,M7&K7&A7)) -> #REF! | C7: =IF(#REF!="","",#REF!) -> #REF! | D7: =IF(#REF!="","",#REF!) -> #REF! | E7: =IF(#REF!="","",#REF!) -> #REF! | F7: =IF(#REF!="","",#REF!) -> #REF! | G7: =IF(#REF!="","",#REF!) -> #REF! | H7: =IF(C7="","",LEN(C7)+LEN(D7)) -> #REF! | I7: =IF(C7="","",IF(H7<=3,C7&" "&D7&"("&G7&")",C7&" "&D7&"("&G7&")")) -> #REF! | J7: =IF(E7="","",E7&" "&F7) -> #REF! | K7: =IF(C7="","",1) -> #REF! | L7: =#REF! -> #REF! | M7: =IF(L7="","",IF(LEN(#REF!)=1,"47100"&#REF!,"4710"&#REF!)) -> #REF! | N7: =IF(L7="","",17200) -> #REF! | O7: =IF(L7="","",47) -> #REF! | P7: =IF(#REF!="","",#REF!) -> #REF! | Q7: =IF(#REF!="","",#REF!) -> #REF!
A8: 7 | B8: =IF(C8="","",IF(LEN(A8)=1,M8&K8&"0"&A8,M8&K8&A8)) -> #REF! | C8: =IF(#REF!="","",#REF!) -> #REF! | D8: =IF(#REF!="","",#REF!) -> #REF! | E8: =IF(#REF!="","",#REF!) -> #REF! | F8: =IF(#REF!="","",#REF!) -> #REF! | G8: =IF(#REF!="","",#REF!) -> #REF! | H8: =IF(C8="","",LEN(C8)+LEN(D8)) -> #REF! | I8: =IF(C8="","",IF(H8<=3,C8&" "&D8&"("&G8&")",C8&" "&D8&"("&G8&")")) -> #REF! | J8: =IF(E8="","",E8&" "&F8) -> #REF! | K8: =IF(C8="","",1) -> #REF! | L8: =#REF! -> #REF! | M8: =IF(L8="","",IF(LEN(#REF!)=1,"47100"&#REF!,"4710"&#REF!)) -> #REF! | N8: =IF(L8="","",17200) -> #REF! | O8: =IF(L8="","",47) -> #REF! | P8: =IF(#REF!="","",#REF!) -> #REF! | Q8: =IF(#REF!="","",#REF!) -> #REF!
A9: 8 | B9: =IF(C9="","",IF(LEN(A9)=1,M9&K9&"0"&A9,M9&K9&A9)) -> #REF! | C9: =IF(#REF!="","",#REF!) -> #REF! | D9: =IF(#REF!="","",#REF!) -> #REF! | E9: =IF(#REF!="","",#REF!) -> #REF! | F9: =IF(#REF!="","",#REF!) -> #REF! | G9: =IF(#REF!="","",#REF!) -> #REF! | H9: =IF(C9="","",LEN(C9)+LEN(D9)) -> #REF! | I9: =IF(C9="","",IF(H9<=3,C9&" "&D9&"("&G9&")",C9&" "&D9&"("&G9&")")) -> #REF! | J9: =IF(E9="","",E9&" "&F9) -> #REF! | K9: =IF(C9="","",1) -> #REF! | L9: =#REF! -> #REF! | M9: =IF(L9="","",IF(LEN(#REF!)=1,"47100"&#REF!,"4710"&#REF!)) -> #REF! | N9: =IF(L9="","",17200) -> #REF! | O9: =IF(L9="","",47) -> #REF! | P9: =IF(#REF!="","",#REF!) -> #REF! | Q9: =IF(#REF!="","",#REF!) -> #REF!
A10: 9 | B10: =IF(C10="","",IF(LEN(A10)=1,M10&K10&"0"&A10,M10&K10&A10)) -> #REF! | C10: =IF(#REF!="","",#REF!) -> #REF! | D10: =IF(#REF!="","",#REF!) -> #REF! | E10: =IF(#REF!="","",#REF!) -> #REF! | F10: =IF(#REF!="","",#REF!) -> #REF! | G10: =IF(#REF!="","",#REF!) -> #REF! | H10: =IF(C10="","",LEN(C10)+LEN(D10)) -> #REF! | I10: =IF(C10="","",IF(H10<=3,C10&" "&D10&"("&G10&")",C10&" "&D10&"("&G10&")")) -> #REF! | J10: =IF(E10="","",E10&" "&F10) -> #REF! | K10: =IF(C10="","",1) -> #REF! | L10: =#REF! -> #REF! | M10: =IF(L10="","",IF(LEN(#REF!)=1,"47100"&#REF!,"4710"&#REF!)) -> #REF! | N10: =IF(L10="","",17200) -> #REF! | O10: =IF(L10="","",47) -> #REF! | P10: =IF(#REF!="","",#REF!) -> #REF! | Q10: =IF(#REF!="","",#REF!) -> #REF!
A11: 10 | B11: =IF(C11="","",IF(LEN(A11)=1,M11&K11&"0"&A11,M11&K11&A11)) -> #REF! | C11: =IF(#REF!="","",#REF!) -> #REF! | D11: =IF(#REF!="","",#REF!) -> #REF! | E11: =IF(#REF!="","",#REF!) -> #REF! | F11: =IF(#REF!="","",#REF!) -> #REF! | G11: =IF(#REF!="","",#REF!) -> #REF! | H11: =IF(C11="","",LEN(C11)+LEN(D11)) -> #REF! | I11: =IF(C11="","",IF(H11<=3,C11&" "&D11&"("&G11&")",C11&" "&D11&"("&G11&")")) -> #REF! | J11: =IF(E11="","",E11&" "&F11) -> #REF! | K11: =IF(C11="","",1) -> #REF! | L11: =#REF! -> #REF! | M11: =IF(L11="","",IF(LEN(#REF!)=1,"47100"&#REF!,"4710"&#REF!)) -> #REF! | N11: =IF(L11="","",17200) -> #REF! | O11: =IF(L11="","",47) -> #REF! | P11: =IF(#REF!="","",#REF!) -> #REF! | Q11: =IF(#REF!="","",#REF!) -> #REF!
A13: 1 | B13: =IF(C13="","",IF(LEN(A13)=1,M13&K13&"0"&A13,M13&K13&A13)) -> #REF! | C13: =IF(#REF!="","",#REF!) -> #REF! | D13: =IF(#REF!="","",#REF!) -> #REF! | E13: =IF(#REF!="","",#REF!) -> #REF! | F13: =IF(#REF!="","",#REF!) -> #REF! | G13: =IF(#REF!="","",#REF!) -> #REF! | H13: =IF(C13="","",LEN(C13)+LEN(D13)) -> #REF! | I13: =IF(C13="","",IF(H13<=3,C13&" "&D13&"("&G13&")",C13&" "&D13&"("&G13&")")) -> #REF! | J13: =IF(E13="","",E13&" "&F13) -> #REF! | K13: =IF(C13="","",2) -> #REF! | L13: =#REF! -> #REF! | M13: =IF(L13="","",IF(LEN(#REF!)=1,"47100"&#REF!,"4710"&#REF!)) -> #REF! | N13: =IF(L13="","",17200) -> #REF! | O13: =IF(L13="","",47) -> #REF! | P13: =IF(#REF!="","",#REF!) -> #REF! | Q13: =IF(#REF!="","",#REF!) -> #REF!
A14: 2 | B14: =IF(C14="","",IF(LEN(A14)=1,M14&K14&"0"&A14,M14&K14&A14)) -> #REF! | C14: =IF(#REF!="","",#REF!) -> #REF! | D14: =IF(#REF!="","",#REF!) -> #REF! | E14: =IF(#REF!="","",#REF!) -> #REF! | F14: =IF(#REF!="","",#REF!) -> #REF! | G14: =IF(#REF!="","",#REF!) -> #REF! | H14: =IF(C14="","",LEN(C14)+LEN(D14)) -> #REF! | I14: =IF(C14="","",IF(H14<=3,C14&" "&D14&"("&G14&")",C14&" "&D14&"("&G14&")")) -> #REF! | J14: =IF(E14="","",E14&" "&F14) -> #REF! | K14: =IF(C14="","",2) -> #REF! | L14: =#REF! -> #REF! | M14: =IF(L14="","",IF(LEN(#REF!)=1,"47100"&#REF!,"4710"&#REF!)) -> #REF! | N14: =IF(L14="","",17200) -> #REF! | O14: =IF(L14="","",47) -> #REF! | P14: =IF(#REF!="","",#REF!) -> #REF! | Q14: =IF(#REF!="","",#REF!) -> #REF!
A15: 3 | B15: =IF(C15="","",IF(LEN(A15)=1,M15&K15&"0"&A15,M15&K15&A15)) -> #REF! | C15: =IF(#REF!="","",#REF!) -> #REF! | D15: =IF(#REF!="","",#REF!) -> #REF! | E15: =IF(#REF!="","",#REF!) -> #REF! | F15: =IF(#REF!="","",#REF!) -> #REF! | G15: =IF(#REF!="","",#REF!) -> #REF! | H15: =IF(C15="","",LEN(C15)+LEN(D15)) -> #REF! | I15: =IF(C15="","",IF(H15<=3,C15&" "&D15&"("&G15&")",C15&" "&D15&"("&G15&")")) -> #REF! | J15: =IF(E15="","",E15&" "&F15) -> #REF! | K15: =IF(C15="","",2) -> #REF! | L15: =#REF! -> #REF! | M15: =IF(L15="","",IF(LEN(#REF!)=1,"47100"&#REF!,"4710"&#REF!)) -> #REF! | N15: =IF(L15="","",17200) -> #REF! | O15: =IF(L15="","",47) -> #REF! | P15: =IF(#REF!="","",#REF!) -> #REF! | Q15: =IF(#REF!="","",#REF!) -> #REF!
A16: 4 | B16: =IF(C16="","",IF(LEN(A16)=1,M16&K16&"0"&A16,M16&K16&A16)) -> #REF! | C16: =IF(#REF!="","",#REF!) -> #REF! | D16: =IF(#REF!="","",#REF!) -> #REF! | E16: =IF(#REF!="","",#REF!) -> #REF! | F16: =IF(#REF!="","",#REF!) -> #REF! | G16: =IF(#REF!="","",#REF!) -> #REF! | H16: =IF(C16="","",LEN(C16)+LEN(D16)) -> #REF! | I16: =IF(C16="","",IF(H16<=3,C16&" "&D16&"("&G16&")",C16&" "&D16&"("&G16&")")) -> #REF! | J16: =IF(E16="","",E16&" "&F16) -> #REF! | K16: =IF(C16="","",2) -> #REF! | L16: =#REF! -> #REF! | M16: =IF(L16="","",IF(LEN(#REF!)=1,"47100"&#REF!,"4710"&#REF!)) -> #REF! | N16: =IF(L16="","",17200) -> #REF! | O16: =IF(L16="","",47) -> #REF! | P16: =IF(#REF!="","",#REF!) -> #REF! | Q16: =IF(#REF!="","",#REF!) -> #REF!
A17: 5 | B17: =IF(C17="","",IF(LEN(A17)=1,M17&K17&"0"&A17,M17&K17&A17)) -> #REF! | C17: =IF(#REF!="","",#REF!) -> #REF! | D17: =IF(#REF!="","",#REF!) -> #REF! | E17: =IF(#REF!="","",#REF!) -> #REF! | F17: =IF(#REF!="","",#REF!) -> #REF! | G17: =IF(#REF!="","",#REF!) -> #REF! | H17: =IF(C17="","",LEN(C17)+LEN(D17)) -> #REF! | I17: =IF(C17="","",IF(H17<=3,C17&" "&D17&"("&G17&")",C17&" "&D17&"("&G17&")")) -> #REF! | J17: =IF(E17="","",E17&" "&F17) -> #REF! | K17: =IF(C17="","",2) -> #REF! | L17: =#REF! -> #REF! | M17: =IF(L17="","",IF(LEN(#REF!)=1,"47100"&#REF!,"4710"&#REF!)) -> #REF! | N17: =IF(L17="","",17200) -> #REF! | O17: =IF(L17="","",47) -> #REF! | P17: =IF(#REF!="","",#REF!) -> #REF! | Q17: =IF(#REF!="","",#REF!) -> #REF!
A18: 6 | B18: =IF(C18="","",IF(LEN(A18)=1,M18&K18&"0"&A18,M18&K18&A18)) -> #REF! | C18: =IF(#REF!="","",#REF!) -> #REF! | D18: =IF(#REF!="","",#REF!) -> #REF! | E18: =IF(#REF!="","",#REF!) -> #REF! | F18: =IF(#REF!="","",#REF!) -> #REF! | G18: =IF(#REF!="","",#REF!) -> #REF! | H18: =IF(C18="","",LEN(C18)+LEN(D18)) -> #REF! | I18: =IF(C18="","",IF(H18<=3,C18&" "&D18&"("&G18&")",C18&" "&D18&"("&G18&")")) -> #REF! | J18: =IF(E18="","",E18&" "&F18) -> #REF! | K18: =IF(C18="","",2) -> #REF! | L18: =#REF! -> #REF! | M18: =IF(L18="","",IF(LEN(#REF!)=1,"47100"&#REF!,"4710"&#REF!)) -> #REF! | N18: =IF(L18="","",17200) -> #REF! | O18: =IF(L18="","",47) -> #REF! | P18: =IF(#REF!="","",#REF!) -> #REF! | Q18: =IF(#REF!="","",#REF!) -> #REF!
A19: 7 | B19: =IF(C19="","",IF(LEN(A19)=1,M19&K19&"0"&A19,M19&K19&A19)) -> #REF! | C19: =IF(#REF!="","",#REF!) -> #REF! | D19: =IF(#REF!="","",#REF!) -> #REF! | E19: =IF(#REF!="","",#REF!) -> #REF! | F19: =IF(#REF!="","",#REF!) -> #REF! | G19: =IF(#REF!="","",#REF!) -> #REF! | H19: =IF(C19="","",LEN(C19)+LEN(D19)) -> #REF! | I19: =IF(C19="","",IF(H19<=3,C19&" "&D19&"("&G19&")",C19&" "&D19&"("&G19&")")) -> #REF! | J19: =IF(E19="","",E19&" "&F19) -> #REF! | K19: =IF(C19="","",2) -> #REF! | L19: =#REF! -> #REF! | M19: =IF(L19="","",IF(LEN(#REF!)=1,"47100"&#REF!,"4710"&#REF!)) -> #REF! | N19: =IF(L19="","",17200) -> #REF! | O19: =IF(L19="","",47) -> #REF! | P19: =IF(#REF!="","",#REF!) -> #REF! | Q19: =IF(#REF!="","",#REF!) -> #REF!
A20: 8 | B20: =IF(C20="","",IF(LEN(A20)=1,M20&K20&"0"&A20,M20&K20&A20)) -> #REF! | C20: =IF(#REF!="","",#REF!) -> #REF! | D20: =IF(#REF!="","",#REF!) -> #REF! | E20: =IF(#REF!="","",#REF!) -> #REF! | F20: =IF(#REF!="","",#REF!) -> #REF! | G20: =IF(#REF!="","",#REF!) -> #REF! | H20: =IF(C20="","",LEN(C20)+LEN(D20)) -> #REF! | I20: =IF(C20="","",IF(H20<=3,C20&" "&D20&"("&G20&")",C20&" "&D20&"("&G20&")")) -> #REF! | J20: =IF(E20="","",E20&" "&F20) -> #REF! | K20: =IF(C20="","",2) -> #REF! | L20: =#REF! -> #REF! | M20: =IF(L20="","",IF(LEN(#REF!)=1,"47100"&#REF!,"4710"&#REF!)) -> #REF! | N20: =IF(L20="","",17200) -> #REF! | O20: =IF(L20="","",47) -> #REF! | P20: =IF(#REF!="","",#REF!) -> #REF! | Q20: =IF(#REF!="","",#REF!) -> #REF!

Sheet Data2
A1: ＮＣ | B1: =#REF! -> #REF!
A2: 学校名 | B2: =#REF! -> #REF!
A3: 男子監督 | B3: =#REF! -> #REF! | C3: =#REF! -> #REF! | D3: =#REF! -> #REF! | E3: 男子コーチ | F3: =#REF! -> #REF! | G3: =#REF! -> #REF!
A4: 女子監督 | B4: =#REF! -> #REF! | C4: =#REF! -> #REF! | D4: =#REF! -> #REF! | E4: 女子コーチ | F4: =#REF! -> #REF! | G4: =#REF! -> #REF!
A5: 役員１ | B5: =役員氏名報告!B17 -> (離島校除く必ず１名) 立哨 | C5: =役員氏名報告!D17 -> 0
A6: 役員２ | B6: =役員氏名報告!B18 -> 0 | C6: =役員氏名報告!D18 -> 0
A7: 役員３ | B7: =役員氏名報告!B19 -> 0 | C7: =役員氏名報告!D19 -> 0
A8: 役員４ | B8: =役員氏名報告!B20 -> 0 | C8: =役員氏名報告!D20 -> 0
A9: 役員５ | B9: =役員氏名報告!B21 -> 0 | C9: =役員氏名報告!D21 -> 0
A10: 役員６ | B10: =役員氏名報告!B22 -> 0 | C10: =役員氏名報告!D22 -> 0
A11: 役員７ | B11: =役員氏名報告!B23 -> 0 | C11: =役員氏名報告!D23 -> 0
A12: 役員８ | B12: =役員氏名報告!B24 -> 0 | C12: =役員氏名報告!D24 -> 0
A13: 役員９ | B13: =役員氏名報告!B25 -> 0 | C13: =役員氏名報告!D25 -> 0
A14: 役員10 | B14: =役員氏名報告!G17 -> 0 | C14: =役員氏名報告!I17 -> 0
A15: 役員11 | B15: =役員氏名報告!G18 -> 0 | C15: =役員氏名報告!I18 -> 0
A16: 役員12 | B16: =役員氏名報告!G19 -> 0 | C16: =役員氏名報告!I19 -> 0
A17: 役員13 | B17: =役員氏名報告!G20 -> 0 | C17: =役員氏名報告!I20 -> 0
A18: 役員14 | B18: =役員氏名報告!G21 -> 0 | C18: =役員氏名報告!I21 -> 0
A19: 役員15 | B19: =役員氏名報告!G22 -> 0 | C19: =役員氏名報告!I22 -> 0
A20: 役員16 | B20: =役員氏名報告!G23 -> 0 | C20: =役員氏名報告!I23 -> 0
A21: 役員17 | B21: =役員氏名報告!G24 -> 0 | C21: =役員氏名報告!I24 -> 0
A22: 役員18 | B22: =役員氏名報告!G25 -> 0 | C22: =役員氏名報告!I25 -> 0

Sheet 47ork79
