Workbook

Sheet 地区新人大会要項
A1: 第53回国頭地区中学校新人サッカ－大会要項
A3: １．名 称 第53回国頭地区中学校新人総合体育大会サッカ－競技
A4: ２．主 催 国頭地区中学校体育連盟
A5: ３．共 催 沖縄県教育委員会 国頭地区市町村教育委員会 国頭地区PTA連合会
A6: ４．期 日 令和8年11月21日（土），11月23日（月） 予備日：11月28日(土)
A7: ５．会 場 初日：金武フットボールセンター(天然芝) ２日目：金武フットボールセンター（天然芝）
A8: ６．協 力 名護市サッカー協会
A9: ７．開 会 式 11月21日（土） ８時3０分 ５分前に整列完了。
A11: ８．参加申込み 申し込みは申し込み用紙に必要事項を記入、押印の上、PDFにして照屋敬史まで
F12: ミライムにて送信お願いします。１１月２日（火）１7時までに時間厳守。
F13: 監督会には必ず参加してください。（審議・確認したい事項が有ります）
F14: ※監督会・抽選会 令和８年11月11日（水）１６時 名護中学校
F15: ※申し込み原本は、監督会で提出。
A16: ９．参加規定
A17: （１）中体連加盟校で会費納入済の学校。参加費は参加選手一人につき500円（監督会会場にて）
A18: （２）選手の引率は出場校の校長・教員・部活動指導員とする。監督等は出場校は校長・教職員（常勤）・部活動指導員とする。
A19: 教職員以外のコーチについては校長の認めた、地区・県に登録された者とする。但し、ベンチ入りは１名のみとする。
A20: （３）参加にあたっては、各学校の服装・容疑規定を遵守し、基本的には各学校において指導を行う。
C21: ※生徒指導上配慮を要する生徒がいる場合は、事前に監督会等で専門部長へ報告する。
A22: （４）合同チームの参加については、中体連会長から編成が適正であると認められた場合に限る。
A23: １０．競 技 規 定
A24: （１）（財）日本サッカー協会が制定するサッカー競技規則「２０２５/２０２６」に準ずる。
A25: （２）試合中ベンチに入れるメンバーは，登録選手・監督・引率者・コーチ（中体連に登録された１名）
A26: 及びマネージャー（生徒１名）の最大２９名とする。
A27: （３）試合開始前に最大14人の交代要員の氏名を主審に通告しておき，その14人は主審の許可を得て
A28: 交代することができる。フリー交替制を採用する。交替回数は無制限とする。
A29: （４）交代しようとする競技者は試合の停止中に主審から交代を許す合図を受けた後に競技場に入る。
A30: （５）本大会中、警告を二度受けた選手については、次の一試合に参加できない。
A31: 即、退場を宣告された選手の次試合の出場に関しては規律委員会で決定する。
B32: ※大会規律委員会は，専門部長・副専門部長・審判委員長・担当審判・会場主任で構成する。
A33: （６）雷による試合の中断は最大1時間とする。雷鳴から3０分間の中断。その際，前半が終了していれば試合成立とし，
C34: 前半途中で終了した場合，終了時の時間から・同じスコア・同じ再開方法でゲームを行う。
C35: 前半終了していても同点の場合には終了時の時間から・同じスコア・同じ再開方法でゲームを行う。
A36: （７）ボ－ルはミカサ検定皮５号球を使用する。
A37: １１．競 技 方 法
A38: （１）ト－ナメント方式もしくはリーグ戦方式を採用する。
A39: （２）試合時間は25分 - ７分 - 25分 トーナメント方式では時間内に勝敗が決しない場合は５対５のＰＫ戦を行う。
A41: １２．そ の 他
A42: （１）ユニフォ－ムは正・副準備する。（１番～99番）
A43: （２）登録選手変更は、開会式前の監督会で確認。（但し、原則３名以内） | V43: （追加を認める場合がある）
A44: ケガでの登録交代に関しては口頭で監督会で確認して交代。当日の生徒指導による欠員の場合補充できない。
A45: また，登録メンバー内の番号変更は県大会と同じく認めない。
A46: （３）試合開始３０分前までに本部にオーダー表提出。ユニフォームは両チームの協議で決める。お互い譲れない場合は
A47: コイントスで決める。試合開始１０分前までに本部前に集合する。
A48: （４）各チ－ムでゴミ袋を準備しゴミを責任を持って持ち帰る。
A49: （５）開会式には原則として全チ－ム登録選手を参加させること。（ユニフォ－ム着用）
A50: （６）優勝校に賞状・優勝旗、第２位、第３位に賞状を授与する。第１位・第２位の全選手に賞状を授与する。
A51: （７）１分間の飲水タイムを設ける。
A53: １３．式 典
B54: 表彰のみとする。（該当チームのみ参加）

Sheet 地区申し込み用紙
A1: 第53回国頭地区中学校新人サッカ－大会申し込み書
A3: 学校名 | M3: ユニフォーム色 | R3: フィールド | X3: Ｇ Ｋ
R4: 正 | U4: 副 | X4: 正 | AA4: 副
J5: 中学校 | M5: シャツ
A7: 監督名 | M7: パンツ
A9: コーチ名 | M9: ソックス
A11: 引率者
A12: 番号 | D12: 位 置 | G12: 生 徒 氏 名 | O12: 学 年 | R12: 身 長 | U12: 体 重 | X12: 備 考
A14: 1
A15: 2
A16: 3
A17: 4
A18: 5
A19: 6
A20: 7
A21: 8
A22: 9
A23: 10
A24: 11
A25: 12
... A38: 25
A39: 帯同審判員 | E39: 氏名 | O39: （ 級） | U39: （ ユース・一般 ）
A40: 上記の通り参加を申し込みます。
N41: 令和 | R41: 年 | V41: 月 | Z41: 日
B42: 国頭地区中学校体育連盟
B43: 会 長 | E43: 新城 基之
R44: 学校長名 | AA44: 印
R46: 申込者 | AA46: 印
O49: ※学校名・監督名・コーチ名・生徒氏名は
O50: 小さなセルの横の結合されたセルに名称を
O51: 書き入れることが可能です。

Sheet オーダー用紙
A1: 第53回国頭地区中学校新人サッカ－大会オーダー用紙
A2: 学 校 名 | C2: =地区申し込み用紙!E5 -> 0 | G2: 中学校
A3: 背番号 | B3: 位置 | C3: 選手名 | D3: 1試合目 | E3: 備考 | F3: 2試合目 | G3: 備考 | H3: 3試合目 | I3: 備考 | J3: 4試合目 | K3: 備考 | L3: 5試合目 | M3: 備考
A4: =地区申し込み用紙!A14 -> 1 | B4: =地区申し込み用紙!D14 -> 0 | C4: =地区申し込み用紙!G14 -> 0
A5: =地区申し込み用紙!A15 -> 2 | B5: =地区申し込み用紙!D15 -> 0 | C5: =地区申し込み用紙!G15 -> 0
A6: =地区申し込み用紙!A16 -> 3 | B6: =地区申し込み用紙!D16 -> 0 | C6: =地区申し込み用紙!G16 -> 0
A7: =地区申し込み用紙!A17 -> 4 | B7: =地区申し込み用紙!D17 -> 0 | C7: =地区申し込み用紙!G17 -> 0
A8: =地区申し込み用紙!A18 -> 5 | B8: =地区申し込み用紙!D18 -> 0 | C8: =地区申し込み用紙!G18 -> 0
A9: =地区申し込み用紙!A19 -> 6 | B9: =地区申し込み用紙!D19 -> 0 | C9: =地区申し込み用紙!G19 -> 0
A10: =地区申し込み用紙!A20 -> 7 | B10: =地区申し込み用紙!D20 -> 0 | C10: =地区申し込み用紙!G20 -> 0
A11: =地区申し込み用紙!A21 -> 8 | B11: =地区申し込み用紙!D21 -> 0 | C11: =地区申し込み用紙!G21 -> 0
A12: =地区申し込み用紙!A22 -> 9 | B12: =地区申し込み用紙!D22 -> 0 | C12: =地区申し込み用紙!G22 -> 0
A13: =地区申し込み用紙!A23 -> 10 | B13: =地区申し込み用紙!D23 -> 0 | C13: =地区申し込み用紙!G23 -> 0
A14: =地区申し込み用紙!A24 -> 11 | B14: =地区申し込み用紙!D24 -> 0 | C14: =地区申し込み用紙!G24 -> 0
A15: =地区申し込み用紙!A25 -> 12 | B15: =地区申し込み用紙!D25 -> 0 | C15: =地区申し込み用紙!G25 -> 0
... A28: =地区申し込み用紙!A38 -> 25 | B28: =地区申し込み用紙!D38 -> 0 | C28: =地区申し込み用紙!G38 -> 0
A29: 監督署名 | D29: =地区申し込み用紙!E7 -> 0 | F29: =D29 -> 0 | H29: =F29 -> 0 | J29: =H29 -> 0 | L29: =J29 -> 0
A30: スタメンの選手に○を付けて下さい

Sheet 監督会申し合わせ事項
A1: 監 督 会 申 し 合 わ せ 事 項
A3: １．確認事項
A4: （１）ベンチは組み合わせ表の若い番号を、コ－トに向かって左側とする。練習もそのピッチで行う。
A5: （２）練習は試合の進行に支障のない場所で行う。
A6: ※その際の練習着は試合に使われている色以外のものが望ましい
A7: （３）雨天時の試合の有無は専門部長に問い合わせる。（７：００～７：３０）
B8: 天然芝 | C8: 会場 | D8: 照屋敬史
A10: （４）今大会において出場を辞退及び欠場したチームは、その理由を問わず次大会はフリー抽選となる。
A12: ２．マナ－について
A13: （１）各チ－ムの控え場所は汚さないようにゴミ袋を持参し施設等に迷惑をかけない。
A14: （２）試合始め、終わりのあいさつはしっかり行う。
A15: （３）試合終了時はお互いを讃える意味で握手を交わす。（練習試合でも行っていきましょう）
A16: （４）身なりの整っていない選手は出場できない。（頭髪の変色、額や眉のソリ、爪が長いピアスなど）
A17: （５）３Ｆの精神で（ﾌﾚﾝﾄﾞｼｯﾌﾟ, ﾌｧｲﾃｨﾝｸﾞｽﾋﾟﾘｯﾂ, ﾌｪｱ-ﾌﾟﾚ-）
A18: （６）ジャッジに対する不服を露わにしない。（ベンチも）
A20: ３．片づけ ・両日とも、最終試合に出場した２チームは、テントの片づけ。
A21: ・両日とも、全チームとも会場を離れる前に、周辺のゴミひろい。
A23: 審 判 部 か ら の 注 意 事 項
A24: １．ル－ル上の注意
... A50: (5) 長ツメ、めがね．かどが鋭利または芯の見えるシュ－ズのポイント等の使用を禁止する。
B51: ※スポーツメガネは可。
A52: ※(6)スローイン時はタッチラインから２m以上離れる。
A53: ※主審の判定に対するヤジ、抗議などは行わない。

Sheet 審判割り
A1: 第5１回国頭地区中学校新人サッカー競技大会 審判割り当て表
A4: １．１1月2３日（土） | K4: 金武フットボールセンター（天然芝）
H6: 第１試合 | N6: 第２試合 | T6: 第３試合 | Z6: 第４試合 | AF6: 第５試合 | AL6: 第６試合
C7: 開始時間 | H7: 0.39583333 | N7: 0.44444444 | T7: 0.49305556 | Z7: 0.54166667 | AF7: 0.59027778 | AL7: 0.63888889
C8: 対戦者 | J8: VS | P8: VS | V8: VS | AB8: VS | AH8: VS | AN8: VS
C10: 主 審
C13: 副 審
C16: 副 審
C19: ４th
A23: ２．1１月２４日（日） | K23: 金武フットボールセンター(天然芝)
H25: 第１試合 | N25: 第２試合 | T25: 第３試合
C26: 開始時間 | H26: ９：００ | N26: 0.42361111 | T26: １２：３０
C27: 対戦者 | H27: VS | N27: VS | T27: VS
C29: 主 審 | H29: 初日敗退チーム | N29: 第１試合チーム | T29: 第1・２試合敗退チーム
C32: 副 審 | H32: 初日敗退チーム | N32: 第１試合チーム | T32: 第1・２試合敗退チーム
C35: 副 審 | H35: 初日敗退チーム | N35: 第１試合チーム | T35: 第1・２試合敗退チーム
C38: ４th | H38: 初日敗退チーム | N38: 第１試合チーム | T38: 第1・２試合敗退チーム

Sheet 対戦表
A1: 第51回国頭地区中学校新人総合体育大会(サッカー競技)
AK4: 優勝
AK6: 準優勝
U8: ③ | AK8: 3位
M10: ① | AC10: ② | AK10: 3位
I12: A1位 | Q12: B2位 | Y12: A2位 | AG12: B1位
AL15: 試合時間 | AO15: (決勝トーナメント用)
AL16: 第1試合 | AO16: ９：００～ | AT16: ２５分×２
AL17: 第2試合 | AO17: １０：１０～ | AT17: ２５分×２
AL18: 第3試合 | AO18: １２：３０～ | AT18: ２５分×２
A23: ２．11月23日（日） 金武フットボールセンター(天然芝)
A26: １．11月22日（土） 金武フットボールセンター(天然芝)
AL27: 試合時間 | AO27: （予選リーグ用）
AL28: 第１試合 | AO28: ９：３０～ | AT28: ２５分×２
G29: ① | AC29: ④ | AL29: 第２試合 | AO29: １０：４０～ | AT29: ２５分×２
AL30: 第３試合 | AO30: １１：５０～ | AT30: ２５分×２
AL31: 第４試合 | AO31: １３：００～ | AT31: ２５分×２
AL32: 第５試合 | AO32: １４：１０～ | AT32: ２５分×２
F33: ④ | K33: ⑥ | AB33: ③ | AG33: ⑤ | AL33: 第６試合 | AO33: １５：２０～ | AT33: ２５分×２
A36: ② | N36: ③ | W36: ⑤ | AJ36: ⑥
I37: ② | AE37: ①
